BEGIN:VCALENDAR
VERSION:2.0
PRODID:-//ChamberMaster//Event Calendar 2.0//EN
METHOD:PUBLISH
X-PUBLISHED-TTL:P3D
REFRESH-INTERVAL:P3D
CALSCALE:GREGORIAN
BEGIN:VEVENT
DTSTART:20190919T230000Z
DTEND:20190920T003000Z
X-MICROSOFT-CDO-ALLDAYEVENT:FALSE
SUMMARY:Prostate Cancer Screening and Treatment Options - What You Need To Know
DESCRIPTION:You are invited to join us at a FREE educational dinner and Q&A to learn about the benefits of prostate cancer screenings and treatment options. Dinner is included. Space is limited.
X-ALT-DESC;FMTTYPE=text/html:You are invited to join us at a FREE educational dinner and Q&amp\;A to learn about the benefits of prostate cancer screenings and treatment options. Dinner is included. Space is limited.
LOCATION:HCA Houston Healthcare Tomball Lower level cafeteria 605 Holderrieth Tomball\, TX 77375
UID:e.155.31951
SEQUENCE:3
DTSTAMP:20260425T160928Z
URL:http://tomballchamber-gzcms.preview.gochambermaster.com/events/details/prostate-cancer-screening-and-treatment-options-what-you-need-to-know-31951
END:VEVENT

END:VCALENDAR
