BEGIN:VCALENDAR
VERSION:2.0
PRODID:-//ChamberMaster//Event Calendar 2.0//EN
METHOD:PUBLISH
X-PUBLISHED-TTL:P3D
REFRESH-INTERVAL:P3D
CALSCALE:GREGORIAN
BEGIN:VEVENT
DTSTART:20211203T190000Z
DTEND:20211203T193000Z
X-MICROSOFT-CDO-ALLDAYEVENT:FALSE
SUMMARY:Ribbon Cutting - Amanda Reyes Insurance
DESCRIPTION:Stay after our First Friday Luncheon to celebrate with Amanda Reyes. We will hold a Ribbon Cutting Ceremony immediately following the luncheon for Amanda Reyes Insurance.
X-ALT-DESC;FMTTYPE=text/html:Stay after our First Friday Luncheon to celebrate with Amanda Reyes. We will hold a Ribbon Cutting Ceremony immediately following the luncheon for Amanda Reyes Insurance.&nbsp\;
LOCATION:Salem Lutheran Church Community Center 22601 Lutheran Church Road Tomball\, TX 77377
UID:e.155.35152
SEQUENCE:3
DTSTAMP:20260422T105143Z
URL:http://tomballchamber-gzcms.preview.gochambermaster.com/events/details/ribbon-cutting-amanda-reyes-insurance-35152
END:VEVENT

END:VCALENDAR
