BEGIN:VCALENDAR
VERSION:2.0
PRODID:-//ChamberMaster//Event Calendar 2.0//EN
METHOD:PUBLISH
X-PUBLISHED-TTL:P3D
REFRESH-INTERVAL:P3D
CALSCALE:GREGORIAN
BEGIN:VEVENT
DTSTART:20221101T173000Z
DTEND:20221101T183000Z
X-MICROSOFT-CDO-ALLDAYEVENT:FALSE
SUMMARY:Ribbon Cutting - Axis Aerial Arts
DESCRIPTION:Join us for a great time celebrating Axis Aerial Arts with a ribbon cutting ceremony welcoming them to the GTACC Family!
X-ALT-DESC;FMTTYPE=text/html:Join us for a great time celebrating Axis Aerial Arts with a ribbon cutting ceremony welcoming them to the GTACC Family!
LOCATION:311 High Street Tomball\, TX 77375
UID:e.155.37332
SEQUENCE:3
DTSTAMP:20260420T181112Z
URL:http://tomballchamber-gzcms.preview.gochambermaster.com/events/details/ribbon-cutting-axis-aerial-arts-37332
END:VEVENT

END:VCALENDAR
