BEGIN:VCALENDAR
VERSION:2.0
PRODID:-//ChamberMaster//Event Calendar 2.0//EN
METHOD:PUBLISH
X-PUBLISHED-TTL:P3D
REFRESH-INTERVAL:P3D
CALSCALE:GREGORIAN
BEGIN:VEVENT
DTSTART:20200122T160000Z
DTEND:20200122T170000Z
X-MICROSOFT-CDO-ALLDAYEVENT:FALSE
SUMMARY:Ribbon Cutting Ceremony Paradise Tomball Nails & Spa
DESCRIPTION:Join us for a ribbon cutting ceremony welcoming Paradise Tomball Nails & Spa!
X-ALT-DESC;FMTTYPE=text/html:Join us for a ribbon cutting ceremony welcoming Paradise Tomball Nails &amp\; Spa!
LOCATION:14059 FM 2920\, Tomball 77377
UID:e.155.32137
SEQUENCE:3
DTSTAMP:20260425T035140Z
URL:http://tomballchamber-gzcms.preview.gochambermaster.com/events/details/ribbon-cutting-ceremony-paradise-tomball-nails-spa-32137
END:VEVENT

END:VCALENDAR
