BEGIN:VCALENDAR
VERSION:2.0
PRODID:-//ChamberMaster//Event Calendar 2.0//EN
METHOD:PUBLISH
X-PUBLISHED-TTL:P3D
REFRESH-INTERVAL:P3D
CALSCALE:GREGORIAN
BEGIN:VEVENT
DTSTART:20230419T150000Z
DTEND:20230419T160000Z
X-MICROSOFT-CDO-ALLDAYEVENT:FALSE
SUMMARY:Ribbon Cutting - F45 Klein
DESCRIPTION:Join in welcoming F45 Klein to the chamber family!\n\nTake a tour of their facility at the ribbon cutting ceremony.
X-ALT-DESC;FMTTYPE=text/html:Join in welcoming F45 Klein to the chamber family!<br />\nTake a tour of their facility at the ribbon cutting ceremony.&nbsp\;
LOCATION:7202 N Grand Parkway W.\, Suite 300 Spring\, TX 77379
UID:e.155.37937
SEQUENCE:3
DTSTAMP:20260420T061740Z
URL:http://tomballchamber-gzcms.preview.gochambermaster.com/events/details/ribbon-cutting-f45-klein-37937
END:VEVENT

END:VCALENDAR
