BEGIN:VCALENDAR
VERSION:2.0
PRODID:-//ChamberMaster//Event Calendar 2.0//EN
METHOD:PUBLISH
X-PUBLISHED-TTL:P3D
REFRESH-INTERVAL:P3D
CALSCALE:GREGORIAN
BEGIN:VEVENT
DTSTART:20221018T150000Z
DTEND:20221018T160000Z
X-MICROSOFT-CDO-ALLDAYEVENT:FALSE
SUMMARY:Ribbon Cutting - Great American Rug Cleaning
DESCRIPTION:Start off your week with a ribbon cutting ceremony celebrating Great American Rug Cleaning!
X-ALT-DESC;FMTTYPE=text/html:Start off your week with a ribbon cutting ceremony celebrating Great American Rug Cleaning!
LOCATION:212 E Main St Ste 100\, Tomball\, TX 77375
UID:e.155.37299
SEQUENCE:3
DTSTAMP:20260420T212153Z
URL:http://tomballchamber-gzcms.preview.gochambermaster.com/events/details/ribbon-cutting-great-american-rug-cleaning-37299
END:VEVENT

END:VCALENDAR
