BEGIN:VCALENDAR
VERSION:2.0
PRODID:-//ChamberMaster//Event Calendar 2.0//EN
METHOD:PUBLISH
X-PUBLISHED-TTL:P3D
REFRESH-INTERVAL:P3D
CALSCALE:GREGORIAN
BEGIN:VEVENT
DTSTART:20220725T190000Z
DTEND:20220725T200000Z
X-MICROSOFT-CDO-ALLDAYEVENT:FALSE
SUMMARY:Ribbon Cutting: HCA Houston ER 24/7 Creekside
DESCRIPTION:Join us\, as well as the Woodlands Chamber of Commerce\, in celebrating the grand opening of HCA Houston ER 24/7 Creekside with a ribbon cutting ceremony!
X-ALT-DESC;FMTTYPE=text/html:Join us\, as well as the Woodlands Chamber of Commerce\, in celebrating the grand opening of&nbsp\;HCA Houston ER 24/7 Creekside with a ribbon cutting ceremony!
LOCATION:26306 Kuykendahl Road Tomball\, TX 77375
UID:e.155.36428
SEQUENCE:3
DTSTAMP:20260421T061727Z
URL:http://tomballchamber-gzcms.preview.gochambermaster.com/events/details/ribbon-cutting-hca-houston-er-24-7-creekside-36428
END:VEVENT

END:VCALENDAR
