BEGIN:VCALENDAR
VERSION:2.0
PRODID:-//ChamberMaster//Event Calendar 2.0//EN
METHOD:PUBLISH
X-PUBLISHED-TTL:P3D
REFRESH-INTERVAL:P3D
CALSCALE:GREGORIAN
BEGIN:VEVENT
DTSTART:20210825T160000Z
DTEND:20210825T170000Z
X-MICROSOFT-CDO-ALLDAYEVENT:FALSE
SUMMARY:Ribbon Cutting - Jayden Layne Boutique
DESCRIPTION:Join us for a Ribbon Cutting and Grand Re-Opening Ceremony at Jayden Layne Boutique. Enjoy shopping while welcoming them to the chamber family at this cute shop in the Downtown Tomball shopping district!
X-ALT-DESC;FMTTYPE=text/html:Join us for a Ribbon Cutting and Grand Re-Opening Ceremony at Jayden Layne Boutique. Enjoy shopping while welcoming them to the chamber family at this cute shop in the Downtown Tomball shopping district!&nbsp\;
LOCATION:309 Market St B Tomball\, TX 77375
UID:e.155.34866
SEQUENCE:3
DTSTAMP:20260422T232626Z
URL:http://tomballchamber-gzcms.preview.gochambermaster.com/events/details/ribbon-cutting-jayden-layne-boutique-34866
END:VEVENT

END:VCALENDAR
