BEGIN:VCALENDAR
VERSION:2.0
PRODID:-//ChamberMaster//Event Calendar 2.0//EN
METHOD:PUBLISH
X-PUBLISHED-TTL:P3D
REFRESH-INTERVAL:P3D
CALSCALE:GREGORIAN
BEGIN:VEVENT
DTSTART:20221111T160000Z
DTEND:20221111T170000Z
X-MICROSOFT-CDO-ALLDAYEVENT:FALSE
SUMMARY:Ribbon Cutting: Jiffy Lube
DESCRIPTION:Welcome Jiffy Lube to the chamber family with a ribbon cutting ceremony!
X-ALT-DESC;FMTTYPE=text/html:Welcome Jiffy Lube to the chamber family with a ribbon cutting ceremony!
LOCATION:24527 Gosling Rd. Bldg. F Spring\, TX 77389
UID:e.155.37336
SEQUENCE:3
DTSTAMP:20260420T195310Z
URL:http://tomballchamber-gzcms.preview.gochambermaster.com/events/details/ribbon-cutting-jiffy-lube-37336
END:VEVENT

END:VCALENDAR
