BEGIN:VCALENDAR
VERSION:2.0
PRODID:-//ChamberMaster//Event Calendar 2.0//EN
METHOD:PUBLISH
X-PUBLISHED-TTL:P3D
REFRESH-INTERVAL:P3D
CALSCALE:GREGORIAN
BEGIN:VEVENT
DTSTART:20221005T160000Z
DTEND:20221005T170000Z
X-MICROSOFT-CDO-ALLDAYEVENT:FALSE
SUMMARY:Ribbon Cutting: Vantage at Tomball
DESCRIPTION:Join us to welcome Vantage at Tomball to the GTACC Family!
X-ALT-DESC;FMTTYPE=text/html:Join us to welcome Vantage at Tomball to the GTACC Family!
LOCATION:9102 FM 2920 Tomball\, TX 77375
UID:e.155.37297
SEQUENCE:3
DTSTAMP:20260420T195309Z
URL:http://tomballchamber-gzcms.preview.gochambermaster.com/events/details/ribbon-cutting-vantage-at-tomball-37297
END:VEVENT

END:VCALENDAR
