BEGIN:VCALENDAR
VERSION:2.0
PRODID:-//ChamberMaster//Event Calendar 2.0//EN
METHOD:PUBLISH
X-PUBLISHED-TTL:P3D
REFRESH-INTERVAL:P3D
CALSCALE:GREGORIAN
BEGIN:VEVENT
DTSTART:20210206T220000Z
DTEND:20210207T010000Z
X-MICROSOFT-CDO-ALLDAYEVENT:FALSE
SUMMARY:Rose Hill UMC 55th Annual Chilli Supper
DESCRIPTION:Rose Hill UMC's United Methodist Men present its award-winning 55th annual Chilli Supper! Open to the public\, following CDC guidelines. Or you can text your order to 3462914929 for curbside pickup to get pints to-go! Cost is a suggested donation.
X-ALT-DESC;FMTTYPE=text/html:Rose Hill UMC&rsquo\;s United Methodist Men present its award-winning 55th annual Chilli Supper! Open to the public\, following CDC guidelines. Or you can text your order to 3462914929 for curbside pickup to get pints to-go! Cost is a suggested donation.
LOCATION:21022 Rosehill Church Road Tomball\, Texas 77377
UID:e.155.34490
SEQUENCE:3
DTSTAMP:20260423T232414Z
URL:http://tomballchamber-gzcms.preview.gochambermaster.com/events/details/rose-hill-umc-55th-annual-chilli-supper-34490
END:VEVENT

END:VCALENDAR
