BEGIN:VCALENDAR
VERSION:2.0
PRODID:-//ChamberMaster//Event Calendar 2.0//EN
METHOD:PUBLISH
X-PUBLISHED-TTL:P3D
REFRESH-INTERVAL:P3D
CALSCALE:GREGORIAN
BEGIN:VEVENT
DTSTART:20190518T160000Z
DTEND:20190518T200000Z
X-MICROSOFT-CDO-ALLDAYEVENT:FALSE
SUMMARY:Seafood & Rosé
DESCRIPTION:Celebrating Seafood and Ros 's from around the world. Featuring Small plates tapas style\, and Champagne Ros \, Cava Ros \, and Wine flights.
X-ALT-DESC;FMTTYPE=text/html:Celebrating Seafood and Ros&eacute\;&#39\;s from around the world. Featuring Small plates tapas style\, and Champagne Ros&eacute\;\, Cava Ros&eacute\;\, and Wine flights.
LOCATION:425 W. Man Street\, Tomball 77375
UID:e.155.31130
SEQUENCE:3
DTSTAMP:20260426T013925Z
URL:http://tomballchamber-gzcms.preview.gochambermaster.com/events/details/seafood-ros&#233;-31130
END:VEVENT

END:VCALENDAR
