BEGIN:VCALENDAR
VERSION:2.0
PRODID:-//ChamberMaster//Event Calendar 2.0//EN
METHOD:PUBLISH
X-PUBLISHED-TTL:P3D
REFRESH-INTERVAL:P3D
CALSCALE:GREGORIAN
BEGIN:VEVENT
DTSTART:20200307T150000Z
DTEND:20200307T220000Z
X-MICROSOFT-CDO-ALLDAYEVENT:FALSE
SUMMARY:Senior Community Health Screening
DESCRIPTION:The Impact Community Center is hosting Life Line Screening\, the nation's leading provider of preventive health screenings on Saturday\, March 7\, 2020. The screenings offer a 5 test package to thoroughly check you for risk of stroke\, cardiovascular disease and other chronic conditions. The combination of these tests help detect problems   before you have symptoms and while your doctor can still take action   so you can keep doing the things you love. Call today to register! 800-690-0323
X-ALT-DESC;FMTTYPE=text/html:The Impact Community Center is hosting Life Line Screening\, the nation&rsquo\;s leading provider of preventive health screenings on Saturday\, March 7\, 2020. The screenings offer a 5 test package to thoroughly check you for risk of stroke\, cardiovascular disease and other chronic conditions. The combination of these tests help detect problems &ndash\; before you have symptoms and while your doctor can still take action &hellip\; so you can keep doing the things you love. Call today to register! 800-690-0323
LOCATION:Anointed Faith Family Church 17835 Hufsmith Kohrville Rd\, Tomball\, Texas 77375
UID:e.155.32160
SEQUENCE:3
DTSTAMP:20260425T024601Z
URL:http://tomballchamber-gzcms.preview.gochambermaster.com/events/details/senior-community-health-screening-03-07-2020-32160
END:VEVENT

END:VCALENDAR
