BEGIN:VCALENDAR
VERSION:2.0
PRODID:-//ChamberMaster//Event Calendar 2.0//EN
METHOD:PUBLISH
X-PUBLISHED-TTL:P3D
REFRESH-INTERVAL:P3D
CALSCALE:GREGORIAN
BEGIN:VEVENT
DTSTART:20221105T150000Z
DTEND:20221105T210000Z
X-MICROSOFT-CDO-ALLDAYEVENT:FALSE
SUMMARY:Shield Bearer's Family Fallfest
DESCRIPTION:Shield Bearer's Family Fallfest will be hosted at Windwood Presbyterian Church on Saturday\, November 5th from 10:00 am - 4:00 pm.\n\nJoin us at this free event. Vendor market\, performances\, car show\, dessert contest\, kids area\, petting zoo and more!
X-ALT-DESC;FMTTYPE=text/html:Shield Bearer&#39\;s Family Fallfest will be hosted at Windwood Presbyterian Church on Saturday\, November 5th from 10:00 am - 4:00 pm.<br />\nJoin us at this free event. Vendor market\, performances\, car show\, dessert contest\, kids area\, petting zoo and more!
LOCATION:Windwood Presbyterian Church 10555 Spring Cypress Rd. Houston\, Tx 77070
UID:e.155.37321
SEQUENCE:3
DTSTAMP:20260420T163357Z
URL:http://tomballchamber-gzcms.preview.gochambermaster.com/events/details/shield-bearer-s-family-fallfest-37321
END:VEVENT

END:VCALENDAR
