BEGIN:VCALENDAR
VERSION:2.0
PRODID:-//ChamberMaster//Event Calendar 2.0//EN
METHOD:PUBLISH
X-PUBLISHED-TTL:P3D
REFRESH-INTERVAL:P3D
CALSCALE:GREGORIAN
BEGIN:VEVENT
DTSTART:20190613T230000Z
DTEND:20190614T010000Z
X-MICROSOFT-CDO-ALLDAYEVENT:FALSE
SUMMARY:SPECIAL NEEDS TRUSTS
DESCRIPTION:For Individuals That Have a Loved One Receiving Needs Based Benefits. i.e. Children Or Adults with Disabilities
X-ALT-DESC;FMTTYPE=text/html:<p class="MsoNoSpacing">For Individuals That Have a Loved One Receiving Needs Based Benefits. i.e. Children Or Adults with Disabilities</p>\n<style type="text/css"><!--\n /* Font Definitions */\n @font-face\n	{font-family:"Cambria Math"\;\n	panose-1:2 4 5 3 5 4 6 3 2 4\;\n	mso-font-charset:0\;\n	mso-generic-font-family:roman\;\n	mso-font-pitch:variable\;\n	mso-font-signature:3 0 0 0 1 0\;}\n /* Style Definitions */\n p.MsoNormal\, li.MsoNormal\, div.MsoNormal\n	{mso-style-name:"Normal\\\,DevStds\\\,DevSTd"\;\n	mso-style-unhide:no\;\n	mso-style-qformat:yes\;\n	mso-style-parent:""\;\n	mso-style-next:"No Spacing"\;\n	margin:0in\;\n	margin-bottom:.0001pt\;\n	text-align:justify\;\n	mso-pagination:none\;\n	font-size:12.0pt\;\n	font-family:"Times New Roman"\,serif\;\n	mso-fareast-font-family:"Times New Roman"\;}\np.MsoNoSpacing\, li.MsoNoSpacing\, div.MsoNoSpacing\n	{mso-style-priority:1\;\n	mso-style-unhide:no\;\n	mso-style-qformat:yes\;\n	mso-style-parent:""\;\n	margin:0in\;\n	margin-bottom:.0001pt\;\n	text-align:justify\;\n	mso-pagination:none\;\n	font-size:12.0pt\;\n	font-family:"Times New Roman"\,serif\;\n	mso-fareast-font-family:"Times New Roman"\;}\n.MsoChpDefault\n	{mso-style-type:export-only\;\n	mso-default-props:yes\;\n	font-family:"Calibri"\,sans-serif\;\n	mso-ascii-font-family:Calibri\;\n	mso-ascii-theme-font:minor-latin\;\n	mso-hansi-font-family:Calibri\;\n	mso-hansi-theme-font:minor-latin\;\n	mso-bidi-font-family:"Times New Roman"\;\n	mso-bidi-theme-font:minor-bidi\;}\n.MsoPapDefault\n	{mso-style-type:export-only\;\n	margin-bottom:8.0pt\;\n	line-height:107%\;}\n@page WordSection1\n	{size:8.5in 11.0in\;\n	margin:1.0in 1.0in 1.0in 1.0in\;\n	mso-header-margin:.5in\;\n	mso-footer-margin:.5in\;\n	mso-paper-source:0\;}\ndiv.WordSection1\n	{page:WordSection1\;}\n-->\n</style>\n
LOCATION:Bulgawicz Law Firm 108 Buvinghausen Tomball\, TX 77375
UID:e.155.31037
SEQUENCE:3
DTSTAMP:20260426T002303Z
URL:http://tomballchamber-gzcms.preview.gochambermaster.com/events/details/special-needs-trusts-06-13-2019-31037
END:VEVENT

END:VCALENDAR
