BEGIN:VCALENDAR
VERSION:2.0
PRODID:-//ChamberMaster//Event Calendar 2.0//EN
METHOD:PUBLISH
X-PUBLISHED-TTL:P3D
REFRESH-INTERVAL:P3D
CALSCALE:GREGORIAN
BEGIN:VEVENT
DTSTART:20210327T150000Z
DTEND:20210328T220000Z
X-MICROSOFT-CDO-ALLDAYEVENT:FALSE
SUMMARY:Spring Fling Outdoor Art Market
DESCRIPTION:Come get to know one of your local businesses and support your Tomball Art Market. We will be hosting other artists and selling our art outdoors for our Spring Fling Market. This is the first of a series of four Outdoor Markets that we will hold this year. Come enjoy the art\, the outdoors\, and the art demos. Maybe you will even go home with a piece of art you will cherish for a lifetime.
X-ALT-DESC;FMTTYPE=text/html:Come get to know one of your local businesses and support your Tomball Art Market. We will be hosting other artists and selling our art outdoors for our Spring Fling Market. This is the first of a series of four Outdoor Markets that we will hold this year. Come enjoy the art\, the outdoors\, and the art demos. Maybe you will even go home with a piece of art you will cherish for a lifetime.
LOCATION:Three Dimensional Visions 17442 FM 2920 Rd Tomball\, TX 77377
UID:e.155.34519
SEQUENCE:3
DTSTAMP:20260423T193202Z
URL:http://tomballchamber-gzcms.preview.gochambermaster.com/events/details/spring-fling-outdoor-art-market-34519
END:VEVENT

END:VCALENDAR
