BEGIN:VCALENDAR
VERSION:2.0
PRODID:-//ChamberMaster//Event Calendar 2.0//EN
METHOD:PUBLISH
X-PUBLISHED-TTL:P3D
REFRESH-INTERVAL:P3D
CALSCALE:GREGORIAN
BEGIN:VEVENT
DTSTART:20190808T230000Z
DTEND:20190809T003000Z
X-MICROSOFT-CDO-ALLDAYEVENT:FALSE
SUMMARY:Stop the Bleed training
DESCRIPTION:Launched in 2015\, by the White House\, Stop the Bleed is a national awareness campaign and a call to action. It is intended to encourage bystanders to become trained\, equipped and empowered to help in a bleeding emergency\, becoming the beginning of the trauma care chain of survival. Attendees receive a certificate upon completion of class.
X-ALT-DESC;FMTTYPE=text/html:Launched in 2015\, by the White House\, Stop the Bleed is a national awareness campaign and a call to action. It is intended to encourage bystanders to become trained\, equipped and empowered to help in a bleeding emergency\, becoming the beginning of the trauma care chain of survival. Attendees receive a certificate upon completion of class.
LOCATION:HCA Houston Healthcare Tomball Founders Room 605 Holderrieth Blvd. Tomball\, TX 77375
UID:e.155.31563
SEQUENCE:3
DTSTAMP:20260425T213517Z
URL:http://tomballchamber-gzcms.preview.gochambermaster.com/events/details/stop-the-bleed-training-31563
END:VEVENT

END:VCALENDAR
