BEGIN:VCALENDAR
VERSION:2.0
PRODID:-//ChamberMaster//Event Calendar 2.0//EN
METHOD:PUBLISH
X-PUBLISHED-TTL:P3D
REFRESH-INTERVAL:P3D
CALSCALE:GREGORIAN
BEGIN:VEVENT
DTSTART:20210119T233000Z
DTEND:20210120T010000Z
X-MICROSOFT-CDO-ALLDAYEVENT:FALSE
SUMMARY:Taco Tax Tuesday
DESCRIPTION:Join us for margaritas and tacos as we give a presentation on ELIMINATING taxes in retirement!\n\n\n\n\n\n\nAbout this Event\n\n\n\nOur mission is to educate people on the taxation of their money in both the accumulation and distribution phase of their life. Typical retirement planning stops at the accumulation phase for most people. We specialize in eliminating the taxation of our client's money during the distribution phase of retirement. We help people retire in the Zero Percent Tax Bracket!\n\nMax 20 Attendees...Register Fast!
X-ALT-DESC;FMTTYPE=text/html:<div>\n<div>\n<div>\n<div><strong>Join us for margaritas and tacos as we give a presentation on ELIMINATING taxes in retirement!</strong></div>\n</div>\n</div>\n</div>\n\n<div>\n<div>\n<h2>About this Event</h2>\n\n<div>\n<div>\n<p>Our mission is to educate people on the taxation of their money in both the accumulation and distribution phase of their life. Typical retirement planning stops at the accumulation phase for most people. We specialize in eliminating the taxation of our client&rsquo\;s money during the distribution phase of retirement. We help people retire in the Zero Percent Tax Bracket!</p>\n\n<p>Max 20 Attendees...Register Fast!</p>\n</div>\n</div>\n</div>\n</div>\n
LOCATION:Ambriza Social Mexican Kitchen 10115 Louetta Rd. Suite 400 Houston\, TX 77070
UID:e.155.34478
SEQUENCE:3
DTSTAMP:20260424T005056Z
URL:http://tomballchamber-gzcms.preview.gochambermaster.com/events/details/taco-tax-tuesday-34478
END:VEVENT

END:VCALENDAR
