BEGIN:VCALENDAR
VERSION:2.0
PRODID:-//ChamberMaster//Event Calendar 2.0//EN
METHOD:PUBLISH
X-PUBLISHED-TTL:P3D
REFRESH-INTERVAL:P3D
CALSCALE:GREGORIAN
BEGIN:VEVENT
DTSTART:20221015T200000Z
DTEND:20221016T023000Z
X-MICROSOFT-CDO-ALLDAYEVENT:FALSE
SUMMARY:The Big Show.. Corry Morrow
DESCRIPTION:The Big Show at The Depot was developed by Tomball Rotary with assistance from Main Street Crossing. It began in 2019\, but COVID-19 prevented us from having a Big Show the following year in 2020. In 2022 Tomball Rotary is partnering with Main Street Crossing again to bring in wonderful talent. All proceeds go to Tomball Rotary\, who provide scholarships and support area charitable organizations in Harris and Montgomery counties. https://tomballrotaryclub.com/bigshow/
X-ALT-DESC;FMTTYPE=text/html:The Big Show at The Depot was developed by Tomball Rotary with assistance from Main Street Crossing. It began in 2019\, but COVID-19 prevented us from having a Big Show the following year in 2020. In 2022 Tomball Rotary is partnering with Main Street Crossing again to bring in wonderful talent. All proceeds go to Tomball Rotary\, who provide scholarships and support area charitable organizations in Harris and Montgomery counties. https://tomballrotaryclub.com/bigshow/
LOCATION:Tomball Depot 201 South Elm Tomball\, TX 77375
UID:e.155.37309
SEQUENCE:3
DTSTAMP:20260421T001517Z
URL:http://tomballchamber-gzcms.preview.gochambermaster.com/events/details/the-big-show-corry-morrow-37309
END:VEVENT

END:VCALENDAR
