BEGIN:VCALENDAR
VERSION:2.0
PRODID:-//ChamberMaster//Event Calendar 2.0//EN
METHOD:PUBLISH
X-PUBLISHED-TTL:P3D
REFRESH-INTERVAL:P3D
CALSCALE:GREGORIAN
BEGIN:VEVENT
DTSTART:20230505T233000Z
DTEND:20230506T233000Z
X-MICROSOFT-CDO-ALLDAYEVENT:FALSE
SUMMARY:The Wizard of Oz\, Youth Edition
DESCRIPTION:The Arts & Music Program of Tomball presents "The Wizard of Oz" Youth Edition. Journey down the Yellow Brick Road with the beloved classic musical for the whole family. Performances are Friday\, May 5th at 6:30pm and Saturday May 6th at 3pm and 6:30pm. Tickets can be purchased at amptomball.com
X-ALT-DESC;FMTTYPE=text/html:The Arts &amp\; Music Program of Tomball presents &quot\;The Wizard of Oz&quot\; Youth Edition. Journey down the Yellow Brick Road with the beloved classic musical for the whole family. Performances are Friday\, May 5th at 6:30pm and Saturday May 6th at 3pm and 6:30pm. Tickets can be purchased at amptomball.com
LOCATION:Second Stage (On the campus of Salem Lutheran Church) 22601 Lutheran Church Road
UID:e.155.37943
SEQUENCE:3
DTSTAMP:20260420T061737Z
URL:http://tomballchamber-gzcms.preview.gochambermaster.com/events/details/the-wizard-of-oz-youth-edition-37943
END:VEVENT

END:VCALENDAR
