BEGIN:VCALENDAR
VERSION:2.0
PRODID:-//ChamberMaster//Event Calendar 2.0//EN
METHOD:PUBLISH
X-PUBLISHED-TTL:P3D
REFRESH-INTERVAL:P3D
CALSCALE:GREGORIAN
BEGIN:VEVENT
DTSTART:20231028T210000Z
DTEND:20231029T000000Z
X-MICROSOFT-CDO-ALLDAYEVENT:FALSE
SUMMARY:Tomball Musem Center's All Hallows' Eve
DESCRIPTION:What a beautiful and fun place to trick or treat. Join us for our All Hallows Eve Celebration by stepping back into the 19th century with crafts\, scary stories\, and games. Children must be accompanied by an adult. Costumes welcome. Rain or Shine
X-ALT-DESC;FMTTYPE=text/html:What a beautiful and fun place to trick or treat. Join us for our All Hallows Eve Celebration by stepping back into the 19th century with crafts\, scary stories\, and games. Children must be accompanied by an adult. Costumes welcome. Rain or Shine
LOCATION:510 N. Pine Street Tomball\, Texas
UID:e.155.38197
SEQUENCE:3
DTSTAMP:20260419T200216Z
URL:http://tomballchamber-gzcms.preview.gochambermaster.com/events/details/tomball-musem-center-s-all-hallows-eve-38197
END:VEVENT

END:VCALENDAR
