BEGIN:VCALENDAR
VERSION:2.0
PRODID:-//ChamberMaster//Event Calendar 2.0//EN
METHOD:PUBLISH
X-PUBLISHED-TTL:P3D
REFRESH-INTERVAL:P3D
CALSCALE:GREGORIAN
BEGIN:VEVENT
DTSTART:20220910T233000Z
DTEND:20220911T023000Z
X-MICROSOFT-CDO-ALLDAYEVENT:FALSE
SUMMARY:Tomball Senior Parent Organization sponsored Daddy Daughter Dance
DESCRIPTION:Tomball High School Senior Parent Organization presents Boots & Bling Daddy Daughter Dance Our rootin' tootin' good time includes dinner\, candy\, and a souvenir picture. Think you have what it takes to face our bucking bull? Sign up\, hold on for 8 seconds\, and you could win the grand prize buckle!
X-ALT-DESC;FMTTYPE=text/html:Tomball High School Senior Parent Organization presents Boots &amp\; Bling Daddy Daughter Dance Our rootin&#39\; tootin&#39\; good time includes dinner\, candy\, and a souvenir picture. Think you have what it takes to face our bucking bull? Sign up\, hold on for 8 seconds\, and you could win the grand prize buckle!
LOCATION:Tomball High School
UID:e.155.36441
SEQUENCE:3
DTSTAMP:20260421T043933Z
URL:http://tomballchamber-gzcms.preview.gochambermaster.com/events/details/tomball-senior-parent-organization-sponsored-daddy-daughter-dance-36441
END:VEVENT

END:VCALENDAR
