BEGIN:VCALENDAR
VERSION:2.0
PRODID:-//ChamberMaster//Event Calendar 2.0//EN
METHOD:PUBLISH
X-PUBLISHED-TTL:P3D
REFRESH-INTERVAL:P3D
CALSCALE:GREGORIAN
BEGIN:VEVENT
DTSTART:20211023T140000Z
DTEND:20211023T190000Z
X-MICROSOFT-CDO-ALLDAYEVENT:FALSE
SUMMARY:Tomball Star Academy Car Wash
DESCRIPTION:Tomball Star Academy\, TISD's Early College High School\, is having their annual Car Wash Fundraiser. Students will be washing cars for $10 and there will be burgers and hot dogs for sale at lunchtime while you wait. You can purchase tickets online at: https://star-pca.square.site/
X-ALT-DESC;FMTTYPE=text/html:Tomball Star Academy\, TISD&#39\;s Early College High School\, is having their annual Car Wash Fundraiser. Students will be washing cars for $10 and there will be burgers and hot dogs for sale at lunchtime while you wait. You can purchase tickets online at: https://star-pca.square.site/
LOCATION:Community Bank of Texas 28515 TX-249\, Tomball\, TX 77377
UID:e.155.35046
SEQUENCE:3
DTSTAMP:20260422T165433Z
URL:http://tomballchamber-gzcms.preview.gochambermaster.com/events/details/tomball-star-academy-car-wash-35046
END:VEVENT

END:VCALENDAR
