BEGIN:VCALENDAR
VERSION:2.0
PRODID:-//ChamberMaster//Event Calendar 2.0//EN
METHOD:PUBLISH
X-PUBLISHED-TTL:P3D
REFRESH-INTERVAL:P3D
CALSCALE:GREGORIAN
BEGIN:VEVENT
DTSTART:20191102T220000Z
DTEND:20191103T000000Z
X-MICROSOFT-CDO-ALLDAYEVENT:FALSE
SUMMARY:TownePlace Fall Festival
DESCRIPTION:Fall Festival:Free admission\, Costume Contest\, Trunk or Treat\, Bounce House\, games\, Prizes\, Raffles\, Free Food and more.
X-ALT-DESC;FMTTYPE=text/html:Fall Festival:Free admission\, Costume Contest\, Trunk or Treat\, Bounce House\, games\, Prizes\, Raffles\, Free Food and more.
LOCATION:TownePlace Suite by Marriott 11040 Louetta Rd 77070
UID:e.155.31983
SEQUENCE:3
DTSTAMP:20260425T104147Z
URL:http://tomballchamber-gzcms.preview.gochambermaster.com/events/details/towneplace-fall-festival-31983
END:VEVENT

END:VCALENDAR
