BEGIN:VCALENDAR
VERSION:2.0
PRODID:-//ChamberMaster//Event Calendar 2.0//EN
METHOD:PUBLISH
X-PUBLISHED-TTL:P3D
REFRESH-INTERVAL:P3D
CALSCALE:GREGORIAN
BEGIN:VEVENT
DTSTART:20191116T160000Z
DTEND:20191116T200000Z
X-MICROSOFT-CDO-ALLDAYEVENT:FALSE
SUMMARY:Washington on the Brazos State Historic Site Christmas Holiday Market
DESCRIPTION:Join us for a Handmade Holiday Market! Come shop\, mingle and get a jump start on your holiday shopping! You'll find a great selection of holiday gifts including jewelry\, soaps\, lotions\, baked goods\, jams and jellies\, yummy goodies and much\, much more! Live Music and Food Trucks on site.
X-ALT-DESC;FMTTYPE=text/html:Join us for a Handmade Holiday Market! Come shop\, mingle and get a jump start on your holiday shopping! You&#39\;ll find a great selection of holiday gifts including jewelry\, soaps\, lotions\, baked goods\, jams and jellies\, yummy goodies and much\, much more! Live Music and Food Trucks on site.
LOCATION:Washington on the Brazos State Historic Site 23400 Park Road 12 Washington\, Texas 77880
UID:e.155.32079
SEQUENCE:3
DTSTAMP:20260425T144517Z
URL:http://tomballchamber-gzcms.preview.gochambermaster.com/events/details/washington-on-the-brazos-state-historic-site-christmas-holiday-market-32079
END:VEVENT

END:VCALENDAR
