BEGIN:VCALENDAR
VERSION:2.0
PRODID:-//ChamberMaster//Event Calendar 2.0//EN
METHOD:PUBLISH
X-PUBLISHED-TTL:P3D
REFRESH-INTERVAL:P3D
CALSCALE:GREGORIAN
BEGIN:VEVENT
DTSTART:20230221T173000Z
DTEND:20230221T190000Z
X-MICROSOFT-CDO-ALLDAYEVENT:FALSE
SUMMARY:Women's Committee Meeting
DESCRIPTION:Join us for food\, fun\, networking and learning!\n\nThis month we will hear from Tomball Police Department about Self-Defense. \n\nThere will be a few hands on demonstrations\, but your normal work day attire should suffice.
X-ALT-DESC;FMTTYPE=text/html:Join us for food\, fun\, networking and learning!<br />\nThis month we will hear from Tomball Police Department about Self-Defense.&nbsp\;<br />\nThere will be a few hands on demonstrations\, but your normal work day attire should suffice.&nbsp\;
LOCATION:Church 1:37 14050 Park Dr. Tomball\, TX 77377
UID:e.155.37833
SEQUENCE:3
DTSTAMP:20260420T112920Z
URL:http://tomballchamber-gzcms.preview.gochambermaster.com/events/details/women-s-committee-meeting-37833
END:VEVENT

END:VCALENDAR
