BEGIN:VCALENDAR
VERSION:2.0
PRODID:-//ChamberMaster//Event Calendar 2.0//EN
METHOD:PUBLISH
X-PUBLISHED-TTL:P3D
REFRESH-INTERVAL:P3D
CALSCALE:GREGORIAN
BEGIN:VEVENT
DTSTART:20190424T233000Z
DTEND:20190425T013000Z
X-MICROSOFT-CDO-ALLDAYEVENT:FALSE
SUMMARY:Workshop: College Essays and Student Resumes
DESCRIPTION:Kinsmen Lutheran Church invites local high school students and their parents to a free workshop on Wednesday\, April 24 about preparing effective student resumes and college essays. Presented by Virginia L. Blackwell\, an independent educational consultant with more than 30 years of experience in the field of college admissions\, this informative seminar will help students develop a picture of themselves on paper\, so college admissions officers can quickly understand the student's accomplishments and experience. Virginia will be joined by her associate\, Bethany Scott\, who is a former University of Texas admissions officer. Together they will explain the importance of student resumes and college essays\, how those documents are used in the application process\, and what types of details to include. Bethany will then lead students through fun\, interactive brainstorming exercises while Virginia meets with parents to talk about their role in the process. The workshop is open to the community. Admission is free\, but registration is requested. For more information or to register\, visit www.kinsmenlutheran.org.
X-ALT-DESC;FMTTYPE=text/html:Kinsmen Lutheran Church invites local high school students and their parents to a free workshop on Wednesday\, April 24 about preparing effective student resumes and college essays. Presented by Virginia L. Blackwell\, an independent educational consultant with more than 30 years of experience in the field of college admissions\, this informative seminar will help students develop a picture of themselves on paper\, so college admissions officers can quickly understand the student&rsquo\;s accomplishments and experience. Virginia will be joined by her associate\, Bethany Scott\, who is a former University of Texas admissions officer. Together they will explain the importance of student resumes and college essays\, how those documents are used in the application process\, and what types of details to include. Bethany will then lead students through fun\, interactive brainstorming exercises while Virginia meets with parents to talk about their role in the process. The workshop is open to the community. Admission is free\, but registration is requested. For more information or to register\, visit www.kinsmenlutheran.org.
LOCATION:Kinsmen Lutheran Church 12100 Champion Forest Drive Houston\, TX 77066
UID:e.155.31090
SEQUENCE:3
DTSTAMP:20260426T030533Z
URL:http://tomballchamber-gzcms.preview.gochambermaster.com/events/details/workshop-college-essays-and-student-resumes-31090
END:VEVENT

END:VCALENDAR
